BEGIN:VCALENDAR
VERSION:2.0
PRODID:-//wp-events-plugin.com//7.0.5//EN
TZID:Europe/Vienna
X-WR-TIMEZONE:Europe/Vienna
BEGIN:VEVENT
UID:31@mitten-im-innviertel.at
DTSTART;TZID=Europe/Vienna;VALUE=DATE:20250213
DTEND;TZID=Europe/Vienna;VALUE=DATE:20250307
DTSTAMP:20250210T102037Z
URL:https://mitten-im-innviertel.at/veranstaltungen/kem-klimakarikatur-on-
 tour/
SUMMARY:KEM: Klimakarikatur on Tour
DESCRIPTION:Die GIESSEREI holt gemeinsam mit den Klima- und Energie Modellr
 egionen (KEMs) Inn-Hausruck und Inn-Kobernaußerwald eine außergewöhnlic
 he Ausstellung ins Innviertel nach Ried im Innkreis!Kuratiert vom renommie
 rten Cartoonisten Gerhard Haderer\, präsentiert „Klimakarikatur on Tour
 “ die besten Werke des Kaktus Cartoon Awards – einem internationalen W
 ettbewerb\, der 2023 über 1700 Karikaturen von mehr als 500 Künstler:inn
 en aus aller Welt vereinte.Karikaturen als Spiegel der KlimakriseDie sorgf
 ältig ausgewählte Sammlung zeigt\, wie humorvolle Zeichnungen ernste The
 men wie Konsumverhalten\, Umweltzerstörung und globale Ungerechtigkeit au
 f den Punkt bringen. Die Karikaturen regen zum Nachdenken an und bieten gl
 eichzeitig einen kreativen Zugang zur Klimathematik.Besichtigung bis 6. M
 ärz 2024Eröffnung: Donnerstag\, 13. Februar 2024\, um 19 UhrOrt: GIESSER
 EI\, Rainerstr. 5\, 4910 RiedEintritt: KostenlosDie Ausstellung ist bis zu
 m 6. März 2024 zugänglich und bietet einen spannenden Einblick in die We
 lt der Karikatur rund um Klimawandel und Klimagerechtigkeit.Kostenloser Ei
 ntritt – Spenden willkommenÖffnungszeiten:Mo – Sa von 10 – 17 UhrSo
  von 13 – 17 Uhr
ATTACH;FMTTYPE=image/jpeg:https://mitten-im-innviertel.at/wp-content/uploa
 ds/2024/04/Gluehbirne-e1758704298672.png
LOCATION:Giesserei - Haus der Nachhaltigkeit\, Rainerstraße 5\, 4910 Ried 
 im Innkreis\, Österreich
X-APPLE-STRUCTURED-LOCATION;VALUE=URI;X-ADDRESS=Rainerstraße 5\, 4910 Ried
  im Innkreis\, Österreich;X-APPLE-RADIUS=100;X-TITLE=Giesserei - Haus der
  Nachhaltigkeit:geo:0,0
END:VEVENT
BEGIN:VTIMEZONE
TZID:Europe/Vienna
X-LIC-LOCATION:Europe/Vienna
BEGIN:STANDARD
DTSTART:20241027T020000
TZOFFSETFROM:+0200
TZOFFSETTO:+0100
TZNAME:CET
END:STANDARD
END:VTIMEZONE
END:VCALENDAR